BEGIN:VCALENDAR
VERSION:2.0
PRODID:-//University of Maine Farmington - ECPv6.15.16//NONSGML v1.0//EN
CALSCALE:GREGORIAN
METHOD:PUBLISH
X-ORIGINAL-URL:https://farmington.edu
X-WR-CALDESC:Events for University of Maine Farmington
REFRESH-INTERVAL;VALUE=DURATION:PT1H
X-Robots-Tag:noindex
X-PUBLISHED-TTL:PT1H
BEGIN:VTIMEZONE
TZID:America/New_York
BEGIN:DAYLIGHT
TZOFFSETFROM:-0500
TZOFFSETTO:-0400
TZNAME:EDT
DTSTART:20250309T070000
END:DAYLIGHT
BEGIN:STANDARD
TZOFFSETFROM:-0400
TZOFFSETTO:-0500
TZNAME:EST
DTSTART:20251102T060000
END:STANDARD
BEGIN:DAYLIGHT
TZOFFSETFROM:-0500
TZOFFSETTO:-0400
TZNAME:EDT
DTSTART:20260308T070000
END:DAYLIGHT
BEGIN:STANDARD
TZOFFSETFROM:-0400
TZOFFSETTO:-0500
TZNAME:EST
DTSTART:20261101T060000
END:STANDARD
BEGIN:DAYLIGHT
TZOFFSETFROM:-0500
TZOFFSETTO:-0400
TZNAME:EDT
DTSTART:20270314T070000
END:DAYLIGHT
BEGIN:STANDARD
TZOFFSETFROM:-0400
TZOFFSETTO:-0500
TZNAME:EST
DTSTART:20271107T060000
END:STANDARD
END:VTIMEZONE
BEGIN:VEVENT
DTSTART;TZID=America/New_York:20260409T100000
DTEND;TZID=America/New_York:20260409T120000
DTSTAMP:20260419T082353
CREATED:20260331T152230Z
LAST-MODIFIED:20260402T153904Z
UID:10001841-1775728800-1775736000@farmington.edu
SUMMARY:Campus Sustainability Tour
DESCRIPTION:A sustainability-focused tour of UMF with visiting Libra Scholar Dr. Thomas Gillman and led by Professor Drew Barton.
URL:https://farmington.edu/event/campus-sustainability-tour-2/
LOCATION:Kalikow Education Center\, Bjorn Lobby
CATEGORIES:Environment,Featured,Student Life
ATTACH;FMTTYPE=image/webp:https://farmington.edu/app/uploads/2026/03/Sustainablity-Compost-UMF.webp
END:VEVENT
BEGIN:VEVENT
DTSTART;VALUE=DATE:20260415
DTEND;VALUE=DATE:20260416
DTSTAMP:20260419T082353
CREATED:20260304T195055Z
LAST-MODIFIED:20260414T112853Z
UID:10001776-1776211200-1776297599@farmington.edu
SUMMARY:Symposium 2026
DESCRIPTION:Each year\, the University of Maine at Farmington (UMF) Symposium showcases the academic excellence\, research\, creative work\, and experiential learning of our students. Students present both individual and course-based projects representing diverse academic disciplines. Through lectures\, demonstrations\, performances\, and interactive poster sessions\, they share original research findings\, thoughtful analysis\, and creative work with the community. All events are open to the public. \n2026 Symposium Day will be held on April 15\, and daytime classes will be canceled so the entire campus community can participate in this celebration of student achievement. \nIn addition to Symposium Day\, Arts Week will feature art installations\, performances\, presentations\, and new media projects across campus\, highlighting the creativity and talent of our students in a variety of mediums. \nFor a full schedule and more details\, visit the Symposium webpage or view the PDF Program. \n 
URL:https://farmington.edu/event/symposium-2026/
CATEGORIES:Academics,Featured
ATTACH;FMTTYPE=image/webp:https://farmington.edu/app/uploads/2026/03/symposium-banner.webp
END:VEVENT
BEGIN:VEVENT
DTSTART;TZID=America/New_York:20260417T190000
DTEND;TZID=America/New_York:20260417T200000
DTSTAMP:20260419T082353
CREATED:20260319T190414Z
LAST-MODIFIED:20260327T140602Z
UID:10001786-1776452400-1776456000@farmington.edu
SUMMARY:Burnt into Memory: How Brownfield Faced the Fire
DESCRIPTION:Drawing on interviews with townspeople\, letters\, photographs\, and newspaper reports\, Jo Radner tells the history of the furious 1947 wildfire that in a few hours destroyed almost all of the little town of Brownfield in western Maine. Neighbors fought and fled the fire\, saving what they could and supporting one another\, then returned to the devastated town to rebuild their community. In the Brownfield citizens’ own words\, Jo Radner tells an epic story of terror\, courage\, generosity and hope. Friday 17 April 2026. 7:00 pm. UMF Emery Community Arts Center\, $10 for adults. Free for UMF students. Community youth 18 and under also free through our Arts Inspire Youth fund. Tickets online at artsfarmington.org or at the door.
URL:https://farmington.edu/event/burnt-into-memory-how-brownfield-faced-the-fire/
LOCATION:Emery Community Arts Center\, Performance Space
CATEGORIES:Arts & Humanities,Featured
ATTACH;FMTTYPE=image/webp:https://farmington.edu/app/uploads/2026/03/Radner_Jo_Photo-by-Heather-Kelley2.webp
END:VEVENT
BEGIN:VEVENT
DTSTART;TZID=America/New_York:20260422T183000
DTEND;TZID=America/New_York:20260422T210000
DTSTAMP:20260419T082353
CREATED:20260330T180925Z
LAST-MODIFIED:20260415T191610Z
UID:10001839-1776882600-1776891600@farmington.edu
SUMMARY:Libra Scholar Reception and Keynote Address: Using Your Travel for Good
DESCRIPTION:UMF visiting Libra Scholar Dr. Thomas Gillman will deliver a keynote address “Using Your Travel for Good: How We Can Be Part of the First Sustainable Generation” for UMF and the wider community. Reception beforehand with local partners.
URL:https://farmington.edu/event/libra-scholar-reception-and-keynote-address-using-your-travel-for-good/
LOCATION:Emery Community Art Center\, 16 Main St\, Farmington\, ME\, United States
CATEGORIES:Academic Calendar,Arts & Humanities,Environment,Featured,Student Life
ATTACH;FMTTYPE=image/webp:https://farmington.edu/app/uploads/2026/03/RP256-030-e1774621384785.webp
GEO:44.673394;-70.154007
X-APPLE-STRUCTURED-LOCATION;VALUE=URI;X-ADDRESS=Emery Community Art Center 16 Main St Farmington ME United States;X-APPLE-RADIUS=500;X-TITLE=16 Main St:geo:-70.154007,44.673394
END:VEVENT
BEGIN:VEVENT
DTSTART;TZID=America/New_York:20260424T090000
DTEND;TZID=America/New_York:20260424T150000
DTSTAMP:20260419T082353
CREATED:20251117T142241Z
LAST-MODIFIED:20260316T122113Z
UID:10001072-1777021200-1777042800@farmington.edu
SUMMARY:Junior Visit Day Spring 2026
DESCRIPTION:Kick off your college search at UMF’s Junior Visit Day!\nThis day is designed for current high school juniors and sophomores to begin exploring their college options.  \nGet a glimpse of what UMF has to offer by:\n-Touring Campus\n-Connecting with current students\n-Asking questions of a student panel\n-Learning about the application process and financial aid\n-Attending the academic programs expo\n-Joining in our Symposium Day programs where current students showcase their research and field work \nLunch is provided and there will be all sorts of fun surprises throughout the day.\nCome see for yourself why UMF has been rated one of America’s Best Colleges by U.S. News & World Report 25 times since 1998!\nIt’s a great way to get a jump start on your college search!
URL:https://farmington.edu/event/junior-visit-day-spring-2026/
LOCATION:Nordica Auditorium\, UMF Merrill Hal
CATEGORIES:Admissions,Athletics,Featured,Undergraduate Admissions
ATTACH;FMTTYPE=image/webp:https://farmington.edu/app/uploads/2025/09/1015-15-351.webp
ORGANIZER;CN="Admissions Office":MAILTO:umfadmit@maine.edu
END:VEVENT
BEGIN:VEVENT
DTSTART;TZID=America/New_York:20260509T110000
DTEND;TZID=America/New_York:20260509T140000
DTSTAMP:20260419T082353
CREATED:20260203T193024Z
LAST-MODIFIED:20260310T192253Z
UID:10001725-1778324400-1778335200@farmington.edu
SUMMARY:UMF 2026 Commencement
DESCRIPTION:The University of Maine at Farmington’s 2026 Commencement ceremony will be held at 11 a.m.\, Saturday\, May 9\, at the Narrow Gauge Outdoor Venue located off Front Street in Farmington near UMF’s Prescott Field. \nFor more information\, visit the 2026 Commencement Page.
URL:https://farmington.edu/event/umf-2026-commencement/
LOCATION:123 Narrow Gauge Square\, Farmington\, ME\, United States
CATEGORIES:Academic Calendar,Featured
ATTACH;FMTTYPE=image/webp:https://farmington.edu/app/uploads/2025/07/Z6I_4714.webp
GEO:44.650311;-70.129267
END:VEVENT
END:VCALENDAR